BEGIN:VCALENDAR
VERSION:2.0
CALSCALE:GREGORIAN
PRODID:adamgibbons/ics
METHOD:PUBLISH
X-PUBLISHED-TTL:PT1H
BEGIN:VEVENT
UID:15842@offbeat.amsterdam
SUMMARY:Open Mic Bar Night and Voku
DTSTAMP:20260419T223048Z
DTSTART:20260422T170000Z
DTEND:20260422T230000Z
URL:https://offbeat.amsterdam/event/open-mic-bar-night-and-voku-25
GEO:52.3519638;4.8895188
LOCATION:Molli Chaoot - Van Ostadestraat 55hs\, 1072 SN Amsterdam
STATUS:CONFIRMED
CATEGORIES:voku,vegan,theater,amsterdam-zuid,open mic,bar/cafe,de pijp,disc
	ussion/presentation,food
END:VEVENT
BEGIN:VEVENT
UID:18451@offbeat.amsterdam
SUMMARY:The Comedy Underground
DTSTAMP:20260419T223048Z
DTSTART:20260422T190000Z
URL:https://offbeat.amsterdam/event/the-comedy-underground-19
GEO:52.3711125;4.8900771
LOCATION:Theater de Richel - Nieuwezijds Voorburgwal 282\, 1012 RT Amsterda
	m
STATUS:CONFIRMED
CATEGORIES:theater,alternative,amsterdam-centrum,cabaret,comedy,english,exp
	erimental,improv,kleine-zaal,live,music,open mic,performance,spui
END:VEVENT
BEGIN:VEVENT
UID:20825@offbeat.amsterdam
SUMMARY:🍉 Global Sumud Flotilla Benefit w/ Colectivo Carpe Diem 🎶
DTSTAMP:20260419T223048Z
DTSTART:20260424T160000Z
URL:https://offbeat.amsterdam/event/global-sumud-flotilla-benefit-with-cole
	ctivo-carpe-diem
GEO:52.3622421;4.9298553
LOCATION:NieuwLand - Pieter Nieuwlandstraat 93\, 1093 XN Amsterdam
STATUS:CONFIRMED
CATEGORIES:reggae,rock,vegan,amsterdam-oost,community,dapperbuurt,dinner,li
	ve,music,music/concert,open mic
END:VEVENT
BEGIN:VEVENT
UID:18542@offbeat.amsterdam
SUMMARY:Trans and Friends Café InClusion & Open Mic
DTSTAMP:20260419T223048Z
DTSTART:20260424T180000Z
DTEND:20260424T220000Z
URL:https://offbeat.amsterdam/event/trans-and-friends-cafe-inclusion-and-op
	en-mic-2
GEO:52.3608907;4.9138063
LOCATION:Plein Theater - Sajetplein 39\, 1091 DB Amsterdam
STATUS:CONFIRMED
CATEGORIES:open mic,oosterparkbuurt,amsterdam-oost,theater,bar,queer
END:VEVENT
BEGIN:VEVENT
UID:16329@offbeat.amsterdam
SUMMARY:Mezrab Comedy Open Mic
DTSTAMP:20260419T223048Z
DTSTART:20260427T180000Z
DTEND:20260427T203000Z
URL:https://offbeat.amsterdam/event/mezrab-comedy-open-mic-11
GEO:52.3759775;4.9275458
LOCATION:Mezrab - Veemkade 576\, 1019 BL Amsterdam
STATUS:CONFIRMED
CATEGORIES:eastern docklands,amsterdam-oost,open mic,comedy
END:VEVENT
BEGIN:VEVENT
UID:18183@offbeat.amsterdam
SUMMARY:Queer Poetry Night
DTSTAMP:20260419T223048Z
DTSTART:20260428T170000Z
URL:https://offbeat.amsterdam/event/queer-poetry-night-7
GEO:52.376857;4.9220756
LOCATION:Pakhuis de Zwijger - Piet Heinkade 179\, 1019 HC Amsterdam
STATUS:CONFIRMED
CATEGORIES:workshop,social,refugees,queer,poetry,performance,open mic,commu
	nity,eastern docklands,amsterdam-centrum,improv,music,stories,storytelling
END:VEVENT
BEGIN:VEVENT
UID:15843@offbeat.amsterdam
SUMMARY:Open Mic Bar Night and Voku
DTSTAMP:20260419T223048Z
DTSTART:20260429T170000Z
DTEND:20260429T230000Z
URL:https://offbeat.amsterdam/event/open-mic-bar-night-and-voku-26
GEO:52.3519638;4.8895188
LOCATION:Molli Chaoot - Van Ostadestraat 55hs\, 1072 SN Amsterdam
STATUS:CONFIRMED
CATEGORIES:food,amsterdam-zuid,bar/cafe,de pijp,discussion/presentation,ope
	n mic,theater,vegan,voku
END:VEVENT
BEGIN:VEVENT
UID:18452@offbeat.amsterdam
SUMMARY:The Comedy Underground
DTSTAMP:20260419T223048Z
DTSTART:20260429T190000Z
URL:https://offbeat.amsterdam/event/the-comedy-underground-20
GEO:52.3711125;4.8900771
LOCATION:Theater de Richel - Nieuwezijds Voorburgwal 282\, 1012 RT Amsterda
	m
STATUS:CONFIRMED
CATEGORIES:spui,performance,english,experimental,improv,kleine-zaal,live,mu
	sic,open mic,alternative,comedy,cabaret,amsterdam-centrum,theater
END:VEVENT
BEGIN:VEVENT
UID:20220@offbeat.amsterdam
SUMMARY:Smut Slam – Spring fever
DTSTAMP:20260419T223048Z
DTSTART:20260503T180000Z
URL:https://offbeat.amsterdam/event/smut-slam-2
GEO:52.374158;4.8726931
LOCATION:De Nieuwe Anita - Frederik Hendrikstraat 111\, 1052 HN Amsterdam
STATUS:CONFIRMED
CATEGORIES:open mic,amsterdam-west,westerpark,stories,slam,queer,community
END:VEVENT
BEGIN:VEVENT
UID:15844@offbeat.amsterdam
SUMMARY:Open Mic Bar Night and Voku
DTSTAMP:20260419T223048Z
DTSTART:20260506T170000Z
DTEND:20260506T230000Z
URL:https://offbeat.amsterdam/event/open-mic-bar-night-and-voku-27
GEO:52.3519638;4.8895188
LOCATION:Molli Chaoot - Van Ostadestraat 55hs\, 1072 SN Amsterdam
STATUS:CONFIRMED
CATEGORIES:de pijp,voku,vegan,theater,open mic,food,discussion/presentation
	,bar/cafe,amsterdam-zuid
END:VEVENT
BEGIN:VEVENT
UID:18453@offbeat.amsterdam
SUMMARY:The Comedy Underground
DTSTAMP:20260419T223048Z
DTSTART:20260506T190000Z
URL:https://offbeat.amsterdam/event/the-comedy-underground-21
GEO:52.3711125;4.8900771
LOCATION:Theater de Richel - Nieuwezijds Voorburgwal 282\, 1012 RT Amsterda
	m
STATUS:CONFIRMED
CATEGORIES:performance,spui,theater,alternative,amsterdam-centrum,cabaret,c
	omedy,english,experimental,improv,open mic,music,live,kleine-zaal
END:VEVENT
BEGIN:VEVENT
UID:15845@offbeat.amsterdam
SUMMARY:Open Mic Bar Night and Voku
DTSTAMP:20260419T223048Z
DTSTART:20260513T170000Z
DTEND:20260513T230000Z
URL:https://offbeat.amsterdam/event/open-mic-bar-night-and-voku-28
GEO:52.3519638;4.8895188
LOCATION:Molli Chaoot - Van Ostadestraat 55hs\, 1072 SN Amsterdam
STATUS:CONFIRMED
CATEGORIES:de pijp,amsterdam-zuid,bar/cafe,discussion/presentation,food,ope
	n mic,theater,vegan,voku
END:VEVENT
BEGIN:VEVENT
UID:18454@offbeat.amsterdam
SUMMARY:The Comedy Underground
DTSTAMP:20260419T223048Z
DTSTART:20260513T190000Z
URL:https://offbeat.amsterdam/event/the-comedy-underground-22
GEO:52.3711125;4.8900771
LOCATION:Theater de Richel - Nieuwezijds Voorburgwal 282\, 1012 RT Amsterda
	m
STATUS:CONFIRMED
CATEGORIES:experimental,live,music,open mic,english,comedy,performance,spui
	,theater,improv,kleine-zaal,alternative,amsterdam-centrum,cabaret
END:VEVENT
BEGIN:VEVENT
UID:15846@offbeat.amsterdam
SUMMARY:Open Mic Bar Night and Voku
DTSTAMP:20260419T223048Z
DTSTART:20260520T170000Z
DTEND:20260520T230000Z
URL:https://offbeat.amsterdam/event/open-mic-bar-night-and-voku-29
GEO:52.3519638;4.8895188
LOCATION:Molli Chaoot - Van Ostadestraat 55hs\, 1072 SN Amsterdam
STATUS:CONFIRMED
CATEGORIES:discussion/presentation,voku,vegan,theater,open mic,food,de pijp
	,amsterdam-zuid,bar/cafe
END:VEVENT
BEGIN:VEVENT
UID:18455@offbeat.amsterdam
SUMMARY:The Comedy Underground
DTSTAMP:20260419T223048Z
DTSTART:20260520T190000Z
URL:https://offbeat.amsterdam/event/the-comedy-underground-23
GEO:52.3711125;4.8900771
LOCATION:Theater de Richel - Nieuwezijds Voorburgwal 282\, 1012 RT Amsterda
	m
STATUS:CONFIRMED
CATEGORIES:performance,open mic,music,live,kleine-zaal,improv,experimental,
	english,comedy,cabaret,amsterdam-centrum,alternative,spui,theater
END:VEVENT
BEGIN:VEVENT
UID:16944@offbeat.amsterdam
SUMMARY:Mezrab Comedy Open Mic
DTSTAMP:20260419T223048Z
DTSTART:20260525T180000Z
DTEND:20260525T203000Z
URL:https://offbeat.amsterdam/event/mezrab-comedy-open-mic-12
GEO:52.3759775;4.9275458
LOCATION:Mezrab - Veemkade 576\, 1019 BL Amsterdam
STATUS:CONFIRMED
CATEGORIES:open mic,amsterdam-oost,comedy,eastern docklands
END:VEVENT
BEGIN:VEVENT
UID:18184@offbeat.amsterdam
SUMMARY:Queer Poetry Night
DTSTAMP:20260419T223048Z
DTSTART:20260526T170000Z
URL:https://offbeat.amsterdam/event/queer-poetry-night-8
GEO:52.376857;4.9220756
LOCATION:Pakhuis de Zwijger - Piet Heinkade 179\, 1019 HC Amsterdam
STATUS:CONFIRMED
CATEGORIES:community,social,stories,storytelling,workshop,amsterdam-centrum
	,refugees,eastern docklands,improv,music,open mic,performance,poetry,queer
END:VEVENT
BEGIN:VEVENT
UID:19380@offbeat.amsterdam
SUMMARY:Paradiso Indiestad presents: The Itch + Support
DTSTAMP:20260419T223048Z
DTSTART:20260526T170000Z
URL:https://offbeat.amsterdam/event/paradiso-indiestad-presents-the-itch-su
	pport
GEO:52.3966283;4.8755183
LOCATION:Toekomstmuziek - Danzigerbocht 29\, 1013 AM Amsterdam
STATUS:CONFIRMED
CATEGORIES:electroclash,live music,minervahaven,open mic,pop,punk,westpoort
	,amsterdam-west,concert,dance,dancepunk
END:VEVENT
BEGIN:VEVENT
UID:15847@offbeat.amsterdam
SUMMARY:Open Mic Bar Night and Voku
DTSTAMP:20260419T223048Z
DTSTART:20260527T170000Z
DTEND:20260527T230000Z
URL:https://offbeat.amsterdam/event/open-mic-bar-night-and-voku-30
GEO:52.3519638;4.8895188
LOCATION:Molli Chaoot - Van Ostadestraat 55hs\, 1072 SN Amsterdam
STATUS:CONFIRMED
CATEGORIES:de pijp,discussion/presentation,food,open mic,theater,vegan,voku
	,bar/cafe,amsterdam-zuid
END:VEVENT
BEGIN:VEVENT
UID:18456@offbeat.amsterdam
SUMMARY:The Comedy Underground
DTSTAMP:20260419T223048Z
DTSTART:20260527T190000Z
URL:https://offbeat.amsterdam/event/the-comedy-underground-24
GEO:52.3711125;4.8900771
LOCATION:Theater de Richel - Nieuwezijds Voorburgwal 282\, 1012 RT Amsterda
	m
STATUS:CONFIRMED
CATEGORIES:improv,theater,spui,performance,open mic,music,live,kleine-zaal,
	experimental,english,comedy,cabaret,amsterdam-centrum,alternative
END:VEVENT
BEGIN:VEVENT
UID:18543@offbeat.amsterdam
SUMMARY:Trans and Friends Café InClusion & Open Mic
DTSTAMP:20260419T223048Z
DTSTART:20260529T180000Z
DTEND:20260529T220000Z
URL:https://offbeat.amsterdam/event/trans-and-friends-cafe-inclusion-and-op
	en-mic-3
GEO:52.3608907;4.9138063
LOCATION:Plein Theater - Sajetplein 39\, 1091 DB Amsterdam
STATUS:CONFIRMED
CATEGORIES:theater,queer,open mic,oosterparkbuurt,bar,amsterdam-oost
END:VEVENT
BEGIN:VEVENT
UID:15848@offbeat.amsterdam
SUMMARY:Open Mic Bar Night and Voku
DTSTAMP:20260419T223048Z
DTSTART:20260603T170000Z
DTEND:20260603T230000Z
URL:https://offbeat.amsterdam/event/open-mic-bar-night-and-voku-31
GEO:52.3519638;4.8895188
LOCATION:Molli Chaoot - Van Ostadestraat 55hs\, 1072 SN Amsterdam
STATUS:CONFIRMED
CATEGORIES:theater,vegan,voku,amsterdam-zuid,bar/cafe,de pijp,discussion/pr
	esentation,food,open mic
END:VEVENT
BEGIN:VEVENT
UID:18457@offbeat.amsterdam
SUMMARY:The Comedy Underground
DTSTAMP:20260419T223048Z
DTSTART:20260603T190000Z
URL:https://offbeat.amsterdam/event/the-comedy-underground-25
GEO:52.3711125;4.8900771
LOCATION:Theater de Richel - Nieuwezijds Voorburgwal 282\, 1012 RT Amsterda
	m
STATUS:CONFIRMED
CATEGORIES:theater,spui,performance,open mic,music,live,kleine-zaal,improv,
	alternative,amsterdam-centrum,cabaret,comedy,english,experimental
END:VEVENT
BEGIN:VEVENT
UID:15849@offbeat.amsterdam
SUMMARY:Open Mic Bar Night and Voku
DTSTAMP:20260419T223048Z
DTSTART:20260610T170000Z
DTEND:20260610T230000Z
URL:https://offbeat.amsterdam/event/open-mic-bar-night-and-voku-32
GEO:52.3519638;4.8895188
LOCATION:Molli Chaoot - Van Ostadestraat 55hs\, 1072 SN Amsterdam
STATUS:CONFIRMED
CATEGORIES:open mic,amsterdam-zuid,bar/cafe,de pijp,discussion/presentation
	,food,theater,vegan,voku
END:VEVENT
BEGIN:VEVENT
UID:18458@offbeat.amsterdam
SUMMARY:The Comedy Underground
DTSTAMP:20260419T223048Z
DTSTART:20260610T190000Z
URL:https://offbeat.amsterdam/event/the-comedy-underground-26
GEO:52.3711125;4.8900771
LOCATION:Theater de Richel - Nieuwezijds Voorburgwal 282\, 1012 RT Amsterda
	m
STATUS:CONFIRMED
CATEGORIES:spui,theater,amsterdam-centrum,cabaret,comedy,english,experiment
	al,improv,kleine-zaal,alternative,live,music,open mic,performance
END:VEVENT
BEGIN:VEVENT
UID:15850@offbeat.amsterdam
SUMMARY:Open Mic Bar Night and Voku
DTSTAMP:20260419T223048Z
DTSTART:20260617T170000Z
DTEND:20260617T230000Z
URL:https://offbeat.amsterdam/event/open-mic-bar-night-and-voku-33
GEO:52.3519638;4.8895188
LOCATION:Molli Chaoot - Van Ostadestraat 55hs\, 1072 SN Amsterdam
STATUS:CONFIRMED
CATEGORIES:theater,voku,amsterdam-zuid,bar/cafe,de pijp,discussion/presenta
	tion,food,open mic,vegan
END:VEVENT
BEGIN:VEVENT
UID:18459@offbeat.amsterdam
SUMMARY:The Comedy Underground
DTSTAMP:20260419T223048Z
DTSTART:20260617T190000Z
URL:https://offbeat.amsterdam/event/the-comedy-underground-27
GEO:52.3711125;4.8900771
LOCATION:Theater de Richel - Nieuwezijds Voorburgwal 282\, 1012 RT Amsterda
	m
STATUS:CONFIRMED
CATEGORIES:amsterdam-centrum,theater,spui,performance,open mic,music,live,k
	leine-zaal,improv,experimental,english,comedy,cabaret,alternative
END:VEVENT
BEGIN:VEVENT
UID:17930@offbeat.amsterdam
SUMMARY:Mezrab Comedy Open Mic
DTSTAMP:20260419T223048Z
DTSTART:20260622T180000Z
DTEND:20260622T203000Z
URL:https://offbeat.amsterdam/event/mezrab-comedy-open-mic-13
GEO:52.3759775;4.9275458
LOCATION:Mezrab - Veemkade 576\, 1019 BL Amsterdam
STATUS:CONFIRMED
CATEGORIES:amsterdam-oost,comedy,eastern docklands,open mic
END:VEVENT
BEGIN:VEVENT
UID:18185@offbeat.amsterdam
SUMMARY:Queer Poetry Night
DTSTAMP:20260419T223048Z
DTSTART:20260623T170000Z
URL:https://offbeat.amsterdam/event/queer-poetry-night-9
GEO:52.376857;4.9220756
LOCATION:Pakhuis de Zwijger - Piet Heinkade 179\, 1019 HC Amsterdam
STATUS:CONFIRMED
CATEGORIES:social,refugees,queer,workshop,storytelling,stories,amsterdam-ce
	ntrum,community,eastern docklands,improv,poetry,performance,music,open mic
END:VEVENT
BEGIN:VEVENT
UID:15851@offbeat.amsterdam
SUMMARY:Open Mic Bar Night and Voku
DTSTAMP:20260419T223048Z
DTSTART:20260624T170000Z
DTEND:20260624T230000Z
URL:https://offbeat.amsterdam/event/open-mic-bar-night-and-voku-34
GEO:52.3519638;4.8895188
LOCATION:Molli Chaoot - Van Ostadestraat 55hs\, 1072 SN Amsterdam
STATUS:CONFIRMED
CATEGORIES:discussion/presentation,de pijp,bar/cafe,amsterdam-zuid,theater,
	vegan,voku,food,open mic
END:VEVENT
BEGIN:VEVENT
UID:18815@offbeat.amsterdam
SUMMARY:Trans and Friends Café InClusion & Open Mic
DTSTAMP:20260419T223048Z
DTSTART:20260626T180000Z
DTEND:20260626T220000Z
URL:https://offbeat.amsterdam/event/trans-and-friends-cafe-inclusion-and-op
	en-mic-4
GEO:52.3608907;4.9138063
LOCATION:Plein Theater - Sajetplein 39\, 1091 DB Amsterdam
STATUS:CONFIRMED
CATEGORIES:amsterdam-oost,theater,open mic,oosterparkbuurt,bar,queer
END:VEVENT
BEGIN:VEVENT
UID:15852@offbeat.amsterdam
SUMMARY:Open Mic Bar Night and Voku
DTSTAMP:20260419T223048Z
DTSTART:20260701T170000Z
DTEND:20260701T230000Z
URL:https://offbeat.amsterdam/event/open-mic-bar-night-and-voku-35
GEO:52.3519638;4.8895188
LOCATION:Molli Chaoot - Van Ostadestraat 55hs\, 1072 SN Amsterdam
STATUS:CONFIRMED
CATEGORIES:discussion/presentation,de pijp,open mic,theater,vegan,voku,food
	,bar/cafe,amsterdam-zuid
END:VEVENT
BEGIN:VEVENT
UID:15853@offbeat.amsterdam
SUMMARY:Open Mic Bar Night and Voku
DTSTAMP:20260419T223048Z
DTSTART:20260708T170000Z
DTEND:20260708T230000Z
URL:https://offbeat.amsterdam/event/open-mic-bar-night-and-voku-36
GEO:52.3519638;4.8895188
LOCATION:Molli Chaoot - Van Ostadestraat 55hs\, 1072 SN Amsterdam
STATUS:CONFIRMED
CATEGORIES:voku,amsterdam-zuid,bar/cafe,de pijp,discussion/presentation,foo
	d,open mic,theater,vegan
END:VEVENT
BEGIN:VEVENT
UID:15854@offbeat.amsterdam
SUMMARY:Open Mic Bar Night and Voku
DTSTAMP:20260419T223048Z
DTSTART:20260715T170000Z
DTEND:20260715T230000Z
URL:https://offbeat.amsterdam/event/open-mic-bar-night-and-voku-37
GEO:52.3519638;4.8895188
LOCATION:Molli Chaoot - Van Ostadestraat 55hs\, 1072 SN Amsterdam
STATUS:CONFIRMED
CATEGORIES:food,open mic,theater,vegan,voku,amsterdam-zuid,bar/cafe,de pijp
	,discussion/presentation
END:VEVENT
BEGIN:VEVENT
UID:15855@offbeat.amsterdam
SUMMARY:Open Mic Bar Night and Voku
DTSTAMP:20260419T223048Z
DTSTART:20260722T170000Z
DTEND:20260722T230000Z
URL:https://offbeat.amsterdam/event/open-mic-bar-night-and-voku-38
GEO:52.3519638;4.8895188
LOCATION:Molli Chaoot - Van Ostadestraat 55hs\, 1072 SN Amsterdam
STATUS:CONFIRMED
CATEGORIES:open mic,food,theater,vegan,voku,amsterdam-zuid,bar/cafe,de pijp
	,discussion/presentation
END:VEVENT
BEGIN:VEVENT
UID:15856@offbeat.amsterdam
SUMMARY:Open Mic Bar Night and Voku
DTSTAMP:20260419T223048Z
DTSTART:20260729T170000Z
DTEND:20260729T230000Z
URL:https://offbeat.amsterdam/event/open-mic-bar-night-and-voku-39
GEO:52.3519638;4.8895188
LOCATION:Molli Chaoot - Van Ostadestraat 55hs\, 1072 SN Amsterdam
STATUS:CONFIRMED
CATEGORIES:open mic,amsterdam-zuid,bar/cafe,de pijp,discussion/presentation
	,food,theater,vegan,voku
END:VEVENT
BEGIN:VEVENT
UID:15857@offbeat.amsterdam
SUMMARY:Open Mic Bar Night and Voku
DTSTAMP:20260419T223048Z
DTSTART:20260805T170000Z
DTEND:20260805T230000Z
URL:https://offbeat.amsterdam/event/open-mic-bar-night-and-voku-40
GEO:52.3519638;4.8895188
LOCATION:Molli Chaoot - Van Ostadestraat 55hs\, 1072 SN Amsterdam
STATUS:CONFIRMED
CATEGORIES:open mic,food,discussion/presentation,de pijp,bar/cafe,amsterdam
	-zuid,voku,vegan,theater
END:VEVENT
BEGIN:VEVENT
UID:15858@offbeat.amsterdam
SUMMARY:Open Mic Bar Night and Voku
DTSTAMP:20260419T223048Z
DTSTART:20260812T170000Z
DTEND:20260812T230000Z
URL:https://offbeat.amsterdam/event/open-mic-bar-night-and-voku-41
GEO:52.3519638;4.8895188
LOCATION:Molli Chaoot - Van Ostadestraat 55hs\, 1072 SN Amsterdam
STATUS:CONFIRMED
CATEGORIES:vegan,open mic,discussion/presentation,de pijp,bar/cafe,amsterda
	m-zuid,food,theater,voku
END:VEVENT
BEGIN:VEVENT
UID:15859@offbeat.amsterdam
SUMMARY:Open Mic Bar Night and Voku
DTSTAMP:20260419T223048Z
DTSTART:20260819T170000Z
DTEND:20260819T230000Z
URL:https://offbeat.amsterdam/event/open-mic-bar-night-and-voku-42
GEO:52.3519638;4.8895188
LOCATION:Molli Chaoot - Van Ostadestraat 55hs\, 1072 SN Amsterdam
STATUS:CONFIRMED
CATEGORIES:de pijp,amsterdam-zuid,bar/cafe,discussion/presentation,food,ope
	n mic,theater,vegan,voku
END:VEVENT
BEGIN:VEVENT
UID:15860@offbeat.amsterdam
SUMMARY:Open Mic Bar Night and Voku
DTSTAMP:20260419T223048Z
DTSTART:20260826T170000Z
DTEND:20260826T230000Z
URL:https://offbeat.amsterdam/event/open-mic-bar-night-and-voku-43
GEO:52.3519638;4.8895188
LOCATION:Molli Chaoot - Van Ostadestraat 55hs\, 1072 SN Amsterdam
STATUS:CONFIRMED
CATEGORIES:amsterdam-zuid,bar/cafe,de pijp,discussion/presentation,food,ope
	n mic,theater,vegan,voku
END:VEVENT
BEGIN:VEVENT
UID:15861@offbeat.amsterdam
SUMMARY:Open Mic Bar Night and Voku
DTSTAMP:20260419T223048Z
DTSTART:20260902T170000Z
DTEND:20260902T230000Z
URL:https://offbeat.amsterdam/event/open-mic-bar-night-and-voku-44
GEO:52.3519638;4.8895188
LOCATION:Molli Chaoot - Van Ostadestraat 55hs\, 1072 SN Amsterdam
STATUS:CONFIRMED
CATEGORIES:de pijp,amsterdam-zuid,voku,bar/cafe,vegan,theater,open mic,food
	,discussion/presentation
END:VEVENT
BEGIN:VEVENT
UID:15862@offbeat.amsterdam
SUMMARY:Open Mic Bar Night and Voku
DTSTAMP:20260419T223048Z
DTSTART:20260909T170000Z
DTEND:20260909T230000Z
URL:https://offbeat.amsterdam/event/open-mic-bar-night-and-voku-45
GEO:52.3519638;4.8895188
LOCATION:Molli Chaoot - Van Ostadestraat 55hs\, 1072 SN Amsterdam
STATUS:CONFIRMED
CATEGORIES:bar/cafe,amsterdam-zuid,voku,vegan,theater,open mic,food,discuss
	ion/presentation,de pijp
END:VEVENT
BEGIN:VEVENT
UID:15863@offbeat.amsterdam
SUMMARY:Open Mic Bar Night and Voku
DTSTAMP:20260419T223048Z
DTSTART:20260916T170000Z
DTEND:20260916T230000Z
URL:https://offbeat.amsterdam/event/open-mic-bar-night-and-voku-46
GEO:52.3519638;4.8895188
LOCATION:Molli Chaoot - Van Ostadestraat 55hs\, 1072 SN Amsterdam
STATUS:CONFIRMED
CATEGORIES:amsterdam-zuid,voku,vegan,theater,open mic,food,discussion/prese
	ntation,de pijp,bar/cafe
END:VEVENT
BEGIN:VEVENT
UID:15864@offbeat.amsterdam
SUMMARY:Open Mic Bar Night and Voku
DTSTAMP:20260419T223048Z
DTSTART:20260923T170000Z
DTEND:20260923T230000Z
URL:https://offbeat.amsterdam/event/open-mic-bar-night-and-voku-47
GEO:52.3519638;4.8895188
LOCATION:Molli Chaoot - Van Ostadestraat 55hs\, 1072 SN Amsterdam
STATUS:CONFIRMED
CATEGORIES:voku,amsterdam-zuid,bar/cafe,de pijp,discussion/presentation,foo
	d,open mic,theater,vegan
END:VEVENT
BEGIN:VEVENT
UID:15865@offbeat.amsterdam
SUMMARY:Open Mic Bar Night and Voku
DTSTAMP:20260419T223048Z
DTSTART:20260930T170000Z
DTEND:20260930T230000Z
URL:https://offbeat.amsterdam/event/open-mic-bar-night-and-voku-48
GEO:52.3519638;4.8895188
LOCATION:Molli Chaoot - Van Ostadestraat 55hs\, 1072 SN Amsterdam
STATUS:CONFIRMED
CATEGORIES:vegan,amsterdam-zuid,bar/cafe,de pijp,discussion/presentation,fo
	od,open mic,theater,voku
END:VEVENT
BEGIN:VEVENT
UID:15866@offbeat.amsterdam
SUMMARY:Open Mic Bar Night and Voku
DTSTAMP:20260419T223048Z
DTSTART:20261007T170000Z
DTEND:20261007T230000Z
URL:https://offbeat.amsterdam/event/open-mic-bar-night-and-voku-49
GEO:52.3519638;4.8895188
LOCATION:Molli Chaoot - Van Ostadestraat 55hs\, 1072 SN Amsterdam
STATUS:CONFIRMED
CATEGORIES:vegan,amsterdam-zuid,bar/cafe,de pijp,discussion/presentation,fo
	od,open mic,theater,voku
END:VEVENT
BEGIN:VEVENT
UID:15867@offbeat.amsterdam
SUMMARY:Open Mic Bar Night and Voku
DTSTAMP:20260419T223048Z
DTSTART:20261014T170000Z
DTEND:20261014T230000Z
URL:https://offbeat.amsterdam/event/open-mic-bar-night-and-voku-50
GEO:52.3519638;4.8895188
LOCATION:Molli Chaoot - Van Ostadestraat 55hs\, 1072 SN Amsterdam
STATUS:CONFIRMED
CATEGORIES:discussion/presentation,amsterdam-zuid,bar/cafe,de pijp,food,ope
	n mic,theater,vegan,voku
END:VEVENT
BEGIN:VEVENT
UID:15868@offbeat.amsterdam
SUMMARY:Open Mic Bar Night and Voku
DTSTAMP:20260419T223048Z
DTSTART:20261021T170000Z
DTEND:20261021T230000Z
URL:https://offbeat.amsterdam/event/open-mic-bar-night-and-voku-51
GEO:52.3519638;4.8895188
LOCATION:Molli Chaoot - Van Ostadestraat 55hs\, 1072 SN Amsterdam
STATUS:CONFIRMED
CATEGORIES:amsterdam-zuid,bar/cafe,de pijp,discussion/presentation,food,ope
	n mic,theater,vegan,voku
END:VEVENT
BEGIN:VEVENT
UID:15869@offbeat.amsterdam
SUMMARY:Open Mic Bar Night and Voku
DTSTAMP:20260419T223048Z
DTSTART:20261028T180000Z
DTEND:20261029T000000Z
URL:https://offbeat.amsterdam/event/open-mic-bar-night-and-voku-52
GEO:52.3519638;4.8895188
LOCATION:Molli Chaoot - Van Ostadestraat 55hs\, 1072 SN Amsterdam
STATUS:CONFIRMED
CATEGORIES:voku,amsterdam-zuid,bar/cafe,de pijp,food,discussion/presentatio
	n,open mic,theater,vegan
END:VEVENT
BEGIN:VEVENT
UID:15870@offbeat.amsterdam
SUMMARY:Open Mic Bar Night and Voku
DTSTAMP:20260419T223048Z
DTSTART:20261104T180000Z
DTEND:20261105T000000Z
URL:https://offbeat.amsterdam/event/open-mic-bar-night-and-voku-53
GEO:52.3519638;4.8895188
LOCATION:Molli Chaoot - Van Ostadestraat 55hs\, 1072 SN Amsterdam
STATUS:CONFIRMED
CATEGORIES:vegan,amsterdam-zuid,bar/cafe,de pijp,discussion/presentation,fo
	od,open mic,theater,voku
END:VEVENT
BEGIN:VEVENT
UID:15871@offbeat.amsterdam
SUMMARY:Open Mic Bar Night and Voku
DTSTAMP:20260419T223048Z
DTSTART:20261111T180000Z
DTEND:20261112T000000Z
URL:https://offbeat.amsterdam/event/open-mic-bar-night-and-voku-54
GEO:52.3519638;4.8895188
LOCATION:Molli Chaoot - Van Ostadestraat 55hs\, 1072 SN Amsterdam
STATUS:CONFIRMED
CATEGORIES:de pijp,voku,vegan,theater,open mic,food,discussion/presentation
	,bar/cafe,amsterdam-zuid
END:VEVENT
BEGIN:VEVENT
UID:15872@offbeat.amsterdam
SUMMARY:Open Mic Bar Night and Voku
DTSTAMP:20260419T223048Z
DTSTART:20261118T180000Z
DTEND:20261119T000000Z
URL:https://offbeat.amsterdam/event/open-mic-bar-night-and-voku-55
GEO:52.3519638;4.8895188
LOCATION:Molli Chaoot - Van Ostadestraat 55hs\, 1072 SN Amsterdam
STATUS:CONFIRMED
CATEGORIES:amsterdam-zuid,bar/cafe,de pijp,food,discussion/presentation,vok
	u,vegan,theater,open mic
END:VEVENT
BEGIN:VEVENT
UID:15873@offbeat.amsterdam
SUMMARY:Open Mic Bar Night and Voku
DTSTAMP:20260419T223048Z
DTSTART:20261125T180000Z
DTEND:20261126T000000Z
URL:https://offbeat.amsterdam/event/open-mic-bar-night-and-voku-56
GEO:52.3519638;4.8895188
LOCATION:Molli Chaoot - Van Ostadestraat 55hs\, 1072 SN Amsterdam
STATUS:CONFIRMED
CATEGORIES:open mic,discussion/presentation,de pijp,bar/cafe,amsterdam-zuid
	,voku,vegan,theater,food
END:VEVENT
BEGIN:VEVENT
UID:15874@offbeat.amsterdam
SUMMARY:Open Mic Bar Night and Voku
DTSTAMP:20260419T223048Z
DTSTART:20261202T180000Z
DTEND:20261203T000000Z
URL:https://offbeat.amsterdam/event/open-mic-bar-night-and-voku-57
GEO:52.3519638;4.8895188
LOCATION:Molli Chaoot - Van Ostadestraat 55hs\, 1072 SN Amsterdam
STATUS:CONFIRMED
CATEGORIES:bar/cafe,voku,vegan,theater,open mic,food,discussion/presentatio
	n,de pijp,amsterdam-zuid
END:VEVENT
BEGIN:VEVENT
UID:15875@offbeat.amsterdam
SUMMARY:Open Mic Bar Night and Voku
DTSTAMP:20260419T223048Z
DTSTART:20261209T180000Z
DTEND:20261210T000000Z
URL:https://offbeat.amsterdam/event/open-mic-bar-night-and-voku-58
GEO:52.3519638;4.8895188
LOCATION:Molli Chaoot - Van Ostadestraat 55hs\, 1072 SN Amsterdam
STATUS:CONFIRMED
CATEGORIES:food,amsterdam-zuid,bar/cafe,de pijp,discussion/presentation,vok
	u,vegan,theater,open mic
END:VEVENT
BEGIN:VEVENT
UID:15876@offbeat.amsterdam
SUMMARY:Open Mic Bar Night and Voku
DTSTAMP:20260419T223048Z
DTSTART:20261216T180000Z
DTEND:20261217T000000Z
URL:https://offbeat.amsterdam/event/open-mic-bar-night-and-voku-59
GEO:52.3519638;4.8895188
LOCATION:Molli Chaoot - Van Ostadestraat 55hs\, 1072 SN Amsterdam
STATUS:CONFIRMED
CATEGORIES:food,discussion/presentation,de pijp,bar/cafe,amsterdam-zuid,ope
	n mic,theater,vegan,voku
END:VEVENT
BEGIN:VEVENT
UID:15877@offbeat.amsterdam
SUMMARY:Open Mic Bar Night and Voku
DTSTAMP:20260419T223048Z
DTSTART:20261223T180000Z
DTEND:20261224T000000Z
URL:https://offbeat.amsterdam/event/open-mic-bar-night-and-voku-60
GEO:52.3519638;4.8895188
LOCATION:Molli Chaoot - Van Ostadestraat 55hs\, 1072 SN Amsterdam
STATUS:CONFIRMED
CATEGORIES:food,theater,vegan,voku,amsterdam-zuid,bar/cafe,de pijp,discussi
	on/presentation,open mic
END:VEVENT
END:VCALENDAR
